BEGIN:VCALENDAR
VERSION:2.0
PRODID:-//Irtess - ECPv6.0.13.1//NONSGML v1.0//EN
CALSCALE:GREGORIAN
METHOD:PUBLISH
X-WR-CALNAME:Irtess
X-ORIGINAL-URL:https://dev.irtess.fr
X-WR-CALDESC:évènements pour Irtess
REFRESH-INTERVAL;VALUE=DURATION:PT1H
X-Robots-Tag:noindex
X-PUBLISHED-TTL:PT1H
BEGIN:VTIMEZONE
TZID:Europe/Paris
BEGIN:DAYLIGHT
TZOFFSETFROM:+0100
TZOFFSETTO:+0200
TZNAME:CEST
DTSTART:20250330T010000
END:DAYLIGHT
BEGIN:STANDARD
TZOFFSETFROM:+0200
TZOFFSETTO:+0100
TZNAME:CET
DTSTART:20251026T010000
END:STANDARD
END:VTIMEZONE
BEGIN:VEVENT
DTSTART;TZID=Europe/Paris:20250925T084500
DTEND;TZID=Europe/Paris:20250925T163000
DTSTAMP:20260420T021838
CREATED:20250724T135320Z
LAST-MODIFIED:20250724T135320Z
UID:10000239-1758789900-1758817800@dev.irtess.fr
SUMMARY:Troubles de l'attachement et accueil familial
DESCRIPTION:Le Conseil départemental de Côte d’Or organise la 6eme Rencontre des assistants familiaux sur le thème de l’attachement en accueil familial. Ouvert aux professionnels en fonction des places disponibles. L’IRTESS qui propose la formation d’assistant familial y participera. Plus d’infos à venir.
URL:https://dev.irtess.fr/evenement/troubles-de-lattachement-et-accueil-familial/
LOCATION:Dijon
CATEGORIES:Journée d'échanges
ATTACH;FMTTYPE=image/png:https://dev.irtess.fr/wp-content/uploads/2023/05/CD21.png
END:VEVENT
BEGIN:VEVENT
DTSTART;TZID=Europe/Paris:20250925T090000
DTEND;TZID=Europe/Paris:20250925T160000
DTSTAMP:20260420T021838
CREATED:20250828T082837Z
LAST-MODIFIED:20250828T082837Z
UID:10000244-1758790800-1758816000@dev.irtess.fr
SUMMARY:Journée Recherche & Innovation en santé mentale
DESCRIPTION:Journée portée par l’Unité de Recherche Clinique (URC) organisée par le CH La Chartreuse\, ouverte à l’ensemble des professionnels de santé du territoire\, médicaux comme paramédicaux. Matin : conférences sur inscription\, après-midi : ateliers en accès libre. Objectifs : valoriser la recherche et l’innovation en santé mentale\, mettre en lumière des projets inspirants\, donner des exemples de recherches portées par des professionnels paramédicaux. Voir le programme. S’inscrire
URL:https://dev.irtess.fr/evenement/journee-recherche-innovation-en-sante-mentale/
LOCATION:Dijon
CATEGORIES:Atelier,Conférences,Journée d'étude
ATTACH;FMTTYPE=image/jpeg:https://dev.irtess.fr/wp-content/uploads/2022/03/Logo_CH_La_Chartreuse_PETIT_Quadri.jpg
END:VEVENT
BEGIN:VEVENT
DTSTART;TZID=Europe/Paris:20250925T091500
DTEND;TZID=Europe/Paris:20250925T161500
DTSTAMP:20260420T021838
CREATED:20250709T092043Z
LAST-MODIFIED:20250709T092043Z
UID:10000232-1758791700-1758816900@dev.irtess.fr
SUMMARY:De l’infusion à l’émulsion : l’offre d’accompagnement des personnes en situations de handicap se transforme ! Quels changements sur le terrain ?
DESCRIPTION:Journée d’étude régionale organisée par le CREAI Bourgogne Franche-Comté. Clôture des inscriptions : 10 septembre 2025. Voir le programme. S’inscrire
URL:https://dev.irtess.fr/evenement/de-linfusion-a-lemulsion-loffre-daccompagnement-des-personnes-en-situations-de-handicap-se-transforme-quels-changements-sur-le-terrain/
LOCATION:MSH Dijon\, Dijon\, France
CATEGORIES:Journée d'étude
ATTACH;FMTTYPE=image/png:https://dev.irtess.fr/wp-content/uploads/2023/05/creaiBFC.png
END:VEVENT
END:VCALENDAR