BEGIN:VCALENDAR
VERSION:2.0
PRODID:-//Irtess - ECPv6.0.13.1//NONSGML v1.0//EN
CALSCALE:GREGORIAN
METHOD:PUBLISH
X-ORIGINAL-URL:https://dev.irtess.fr
X-WR-CALDESC:évènements pour Irtess
REFRESH-INTERVAL;VALUE=DURATION:PT1H
X-Robots-Tag:noindex
X-PUBLISHED-TTL:PT1H
BEGIN:VTIMEZONE
TZID:Europe/Paris
BEGIN:DAYLIGHT
TZOFFSETFROM:+0100
TZOFFSETTO:+0200
TZNAME:CEST
DTSTART:20250330T010000
END:DAYLIGHT
BEGIN:STANDARD
TZOFFSETFROM:+0200
TZOFFSETTO:+0100
TZNAME:CET
DTSTART:20251026T010000
END:STANDARD
END:VTIMEZONE
BEGIN:VEVENT
DTSTART;TZID=Europe/Paris:20251104T180000
DTEND;TZID=Europe/Paris:20251123T223000
DTSTAMP:20260419T205740
CREATED:20251106T104751Z
LAST-MODIFIED:20251106T104751Z
UID:10000260-1762279200-1763937000@dev.irtess.fr
SUMMARY:Festival Diversité
DESCRIPTION:Festival de cinéma itinérant organisé par Centre Image\, pôle d’éducation aux images de Bourgogne-Franche-Comté : films documentaires\, fictions\, avant-premières\, à destination de tous les publics. Mais aussi des invités\, des prises de parole\, ateliers\, partenariats avec d’autres associations. Séances à Autun\, Chenôve\, Dijon\, Belfort\, Besançon… Voir le programme complet
URL:https://dev.irtess.fr/evenement/festival-diversite/
LOCATION:Bourgogne-Franche-Comté
CATEGORIES:Ciné-débat,Festival,Théâtre-débat
END:VEVENT
BEGIN:VEVENT
DTSTART;TZID=Europe/Paris:20251118T090000
DTEND;TZID=Europe/Paris:20251118T170000
DTSTAMP:20260419T205740
CREATED:20251106T101750Z
LAST-MODIFIED:20251113T153333Z
UID:10000254-1763456400-1763485200@dev.irtess.fr
SUMMARY:Que faire quand on ne peut rien faire ? Et si on pensait accompagnement social palliatif ? Regards croisés Belgique – France – Suisse
DESCRIPTION:Journée d’étude pour explorer une piste méconnue face aux situations de non-demande\, de refus\, d’immobilité\, quand tout semble impossible et bloqué : l’accompagnement social palliatif\, droit inscrit dans le CASF depuis 2002.\nPour mettre des mots sur certains aspects de l’expérience professionnelle\, réfléchir à nouvelles perspectives en termes de positionnement et de pratiques\, penser des propositions d’accompagnement adaptées à la singularité de chaque personne\, et notamment de celles qui ne sont pas en mesure de soutenir une perspective de changement. Voir le programme. Inscription jusqu’au 17 novembre 2025. S’inscrire
URL:https://dev.irtess.fr/evenement/que-faire-quand-on-ne-peut-rien-faire-et-si-on-pensait-accompagnement-social-palliatif-regards-croises-belgique-france-suisse/
LOCATION:IRTESS\, 2 rue Professeur Marion\, 21000\, Bourgogne\, 21000\, France
CATEGORIES:Agenda du Prefas,Journée d'étude
END:VEVENT
BEGIN:VEVENT
DTSTART;TZID=Europe/Paris:20251118T120000
DTEND;TZID=Europe/Paris:20251123T130000
DTSTAMP:20260419T205740
CREATED:20251106T102649Z
LAST-MODIFIED:20251106T103713Z
UID:10000256-1763467200-1763902800@dev.irtess.fr
SUMMARY:Webinaires thématiques dans le cadre de la Semaine européenne pour l'emploi des personnes handicapées
DESCRIPTION:Webinaires organisés par le FIPHFP\, l’Agefiph et LADAPT\, à l’occasion de la Semaine européenne pour l’emploi des personnes handicapées (SEEPH). A suivre sur LinkedIn et Youtube.\nProgramme : \n\nMardi 18 novembre – Accessibilité universelle : cap vers une réelle égalité. Qu’entend-on aujourd’hui par accessibilité universelle ?\nMercredi 19 novembre – Invisibles mais réels : quand le handicap psychique entre dans le monde du travail\nJeudi 20 novembre – Handicap et collectif de travail : au-delà de l’intégration\, la co-construction\nVendredi 21 novembre – Tracer sa route professionnelle avec un handicap : entre choix\, obstacles et réussites
URL:https://dev.irtess.fr/evenement/webinaires-thematiques-dans-le-cadre-de-la-semaine-europeenne-pour-lemploi-des-personnes-handicapees/
LOCATION:Visio
CATEGORIES:Webinaire
END:VEVENT
END:VCALENDAR