BEGIN:VCALENDAR
VERSION:2.0
PRODID:-//Irtess - ECPv6.0.13.1//NONSGML v1.0//EN
CALSCALE:GREGORIAN
METHOD:PUBLISH
X-ORIGINAL-URL:https://dev.irtess.fr
X-WR-CALDESC:évènements pour Irtess
REFRESH-INTERVAL;VALUE=DURATION:PT1H
X-Robots-Tag:noindex
X-PUBLISHED-TTL:PT1H
BEGIN:VTIMEZONE
TZID:Europe/Paris
BEGIN:DAYLIGHT
TZOFFSETFROM:+0100
TZOFFSETTO:+0200
TZNAME:CEST
DTSTART:20250330T010000
END:DAYLIGHT
BEGIN:STANDARD
TZOFFSETFROM:+0200
TZOFFSETTO:+0100
TZNAME:CET
DTSTART:20251026T010000
END:STANDARD
END:VTIMEZONE
BEGIN:VEVENT
DTSTART;TZID=Europe/Paris:20250904T143000
DTEND;TZID=Europe/Paris:20250904T153000
DTSTAMP:20260420T082808
CREATED:20250828T073803Z
LAST-MODIFIED:20250828T074345Z
UID:10000242-1756996200-1756999800@dev.irtess.fr
SUMMARY:JNAI 2025
DESCRIPTION:Webinaire de lancement des Journées Nationales d’Action contre l’Illettrisme : révélation des chiffres clés « Jeunes et compétences de base »\, vidéos\, retours d’expérience sur les ateliers d’éducation financière. S’inscrire
URL:https://dev.irtess.fr/evenement/jnai-2025/
LOCATION:Visio
CATEGORIES:Webinaire
ATTACH;FMTTYPE=image/png:https://dev.irtess.fr/wp-content/uploads/2023/05/anlci.png
END:VEVENT
BEGIN:VEVENT
DTSTART;TZID=Europe/Paris:20250918T110000
DTEND;TZID=Europe/Paris:20250918T120000
DTSTAMP:20260420T082808
CREATED:20250709T091800Z
LAST-MODIFIED:20250828T081406Z
UID:10000231-1758193200-1758196800@dev.irtess.fr
SUMMARY:Impact du vieillissement de la population sur les centres sociaux
DESCRIPTION:Visio Flash du ROSS. L’Union Régionale des Centres Sociaux vous invite à découvrir et à échanger collectivement sur les résultats de l’ étude menée auprès des 140 Centres Sociaux de la région pour répondre à la question suivante : « Comment les Centres Sociaux de Bourgogne-Franche-Comté prennent-ils en compte le vieillissement de la population ? ». Ce travail a été soutenu financièrement par la CARSAT Bourgogne-Franche-Comté et accompagné par le Pôle de gérontologie et d’innovation (PGI) de Bourgogne-Franche-Comté. S’inscrire
URL:https://dev.irtess.fr/evenement/impact-du-vieillissement-de-la-population-sur-les-centres-sociaux/
LOCATION:Visio
CATEGORIES:Webinaire
ATTACH;FMTTYPE=image/png:https://dev.irtess.fr/wp-content/uploads/2022/11/ROSS_logo.png
END:VEVENT
BEGIN:VEVENT
DTSTART;TZID=Europe/Paris:20250919T140000
DTEND;TZID=Europe/Paris:20250919T160000
DTSTAMP:20260420T082808
CREATED:20250828T072915Z
LAST-MODIFIED:20250828T072915Z
UID:10000241-1758290400-1758297600@dev.irtess.fr
SUMMARY:Rencontres nationales de l'observatoire de l'illettrisme et de l'illectronisme
DESCRIPTION:Webinaire organisé par l’ANLCI : présentation des résultats de trois travaux consacrés aux jeunes scolarisés ou en apprentissage ainsi qu’à ceux en insertion professionnelle. S’inscrire
URL:https://dev.irtess.fr/evenement/rencontres-nationales-de-lobservatoire-de-lillettrisme-et-de-lillectronisme/
LOCATION:Visio
CATEGORIES:Webinaire
ATTACH;FMTTYPE=image/png:https://dev.irtess.fr/wp-content/uploads/2023/05/anlci.png
END:VEVENT
END:VCALENDAR