BEGIN:VCALENDAR
VERSION:2.0
PRODID:-//Irtess - ECPv6.0.13.1//NONSGML v1.0//EN
CALSCALE:GREGORIAN
METHOD:PUBLISH
X-WR-CALNAME:Irtess
X-ORIGINAL-URL:https://dev.irtess.fr
X-WR-CALDESC:évènements pour Irtess
REFRESH-INTERVAL;VALUE=DURATION:PT1H
X-Robots-Tag:noindex
X-PUBLISHED-TTL:PT1H
BEGIN:VTIMEZONE
TZID:Europe/Paris
BEGIN:DAYLIGHT
TZOFFSETFROM:+0100
TZOFFSETTO:+0200
TZNAME:CEST
DTSTART:20250330T010000
END:DAYLIGHT
BEGIN:STANDARD
TZOFFSETFROM:+0200
TZOFFSETTO:+0100
TZNAME:CET
DTSTART:20251026T010000
END:STANDARD
END:VTIMEZONE
BEGIN:VEVENT
DTSTART;TZID=Europe/Paris:20251128T090000
DTEND;TZID=Europe/Paris:20251128T163000
DTSTAMP:20260419T151935
CREATED:20250716T100004Z
LAST-MODIFIED:20250716T100004Z
UID:10000236-1764320400-1764347400@dev.irtess.fr
SUMMARY:Qui sont les stagiaires d'aujourd'hui ? Comment mieux les accompagner ?
DESCRIPTION:Journée d’étude de la Commission « Alternance » de l’IRTESS à destination des tuteurs\, maîtres de stage\, référents de site qualifiant\, professionnels\, employeurs\, chefs de service et stagiaires en formation. Voir le programme. Entrée gratuite sur inscription obligatoire. Date limite d’inscription : 3 novembre 2025. S’inscrire \n 
URL:https://dev.irtess.fr/evenement/qui-sont-les-stagiaires-daujourdhui-comment-mieux-les-accompagner/
LOCATION:Dijon
CATEGORIES:Journée d'étude
ATTACH;FMTTYPE=image/png:https://dev.irtess.fr/wp-content/uploads/2025/07/logo_commission-alternance-irtess-vert_texte2r.png
END:VEVENT
BEGIN:VEVENT
DTSTART;TZID=Europe/Paris:20251127T090000
DTEND;TZID=Europe/Paris:20251127T163000
DTSTAMP:20260419T151935
CREATED:20251105T122128Z
LAST-MODIFIED:20251113T153450Z
UID:10000253-1764234000-1764261000@dev.irtess.fr
SUMMARY:Le projet : être ou ne pas être
DESCRIPTION:Colloque organisé par l’IRTESS et le CNAHES sur les projets d’accompagnement et projets personnalisés. Parmi les intervenants à la table ronde et aux conférences  : Joseph Rouzel sur la notion de projet dans le travail éducatif\, Philippe Fabry\, Michel Chauvière. Voir le programme. S’inscrire. Date limite d’inscription : 26/11/2025.
URL:https://dev.irtess.fr/evenement/le-projet-etre-ou-ne-pas-etre/
LOCATION:IRTESS\, 2 rue Professeur Marion\, 21000\, Bourgogne\, 21000\, France
CATEGORIES:Agenda du Prefas,Colloques
ATTACH;FMTTYPE=image/png:https://dev.irtess.fr/wp-content/uploads/2025/11/logo-cnahes.png
END:VEVENT
BEGIN:VEVENT
DTSTART;TZID=Europe/Paris:20251118T090000
DTEND;TZID=Europe/Paris:20251118T170000
DTSTAMP:20260419T151935
CREATED:20251106T101750Z
LAST-MODIFIED:20251113T153333Z
UID:10000254-1763456400-1763485200@dev.irtess.fr
SUMMARY:Que faire quand on ne peut rien faire ? Et si on pensait accompagnement social palliatif ? Regards croisés Belgique – France – Suisse
DESCRIPTION:Journée d’étude pour explorer une piste méconnue face aux situations de non-demande\, de refus\, d’immobilité\, quand tout semble impossible et bloqué : l’accompagnement social palliatif\, droit inscrit dans le CASF depuis 2002.\nPour mettre des mots sur certains aspects de l’expérience professionnelle\, réfléchir à nouvelles perspectives en termes de positionnement et de pratiques\, penser des propositions d’accompagnement adaptées à la singularité de chaque personne\, et notamment de celles qui ne sont pas en mesure de soutenir une perspective de changement. Voir le programme. Inscription jusqu’au 17 novembre 2025. S’inscrire
URL:https://dev.irtess.fr/evenement/que-faire-quand-on-ne-peut-rien-faire-et-si-on-pensait-accompagnement-social-palliatif-regards-croises-belgique-france-suisse/
LOCATION:IRTESS\, 2 rue Professeur Marion\, 21000\, Bourgogne\, 21000\, France
CATEGORIES:Agenda du Prefas,Journée d'étude
END:VEVENT
BEGIN:VEVENT
DTSTART;TZID=Europe/Paris:20250917T180000
DTEND;TZID=Europe/Paris:20250917T200000
DTSTAMP:20260419T151935
CREATED:20250611T112356Z
LAST-MODIFIED:20250611T112356Z
UID:10000228-1758132000-1758139200@dev.irtess.fr
SUMMARY:20 ans après la loi de 2005\, où en est l’inclusion ? Etat des lieux et perspectives
DESCRIPTION:Tables rondes organisées par les PEP CBFC\, l’IRTESS et le PREFAS Bourgogne : témoignages forts et échanges autour de l’école\, l’emploi et la citoyenneté. Voir le flyer. Entrée gratuite sur inscription obligatoire. Présence à confirmer avant le 03/09/2025. S’inscrire
URL:https://dev.irtess.fr/evenement/20-ans-apres-la-loi-de-2005-ou-en-est-linclusion-etat-des-lieux-et-perspectives/
LOCATION:Dijon
CATEGORIES:Agenda du Prefas,Journée d'échanges
END:VEVENT
BEGIN:VEVENT
DTSTART;TZID=Europe/Paris:20250908T090000
DTEND;TZID=Europe/Paris:20250915T170000
DTSTAMP:20260419T151935
CREATED:20250828T072504Z
LAST-MODIFIED:20250828T072504Z
UID:10000240-1757322000-1757955600@dev.irtess.fr
SUMMARY:Illettrisme : en parler\, c'est avancer
DESCRIPTION:Découverte du jeu de cartes collaboratif élaboré par l‘ANLCI. Objectif : présenter le jeu aux formateurs et  apprenants de l’IRTESS\, jouer ensemble pour apprendre ensemble. dans le hall\, exposition des outils de l’ANLCI (affiches\, outils pédagogiques et actions menées). En savoir plus sur les ressources de l’ANLCI
URL:https://dev.irtess.fr/evenement/illettrisme-en-parler-cest-avancer/
LOCATION:Dijon
CATEGORIES:Agenda du Prefas,Exposition,Journée d'échanges
ATTACH;FMTTYPE=image/png:https://dev.irtess.fr/wp-content/uploads/2023/05/anlci.png
END:VEVENT
BEGIN:VEVENT
DTSTART;TZID=Europe/Paris:20250908T090000
DTEND;TZID=Europe/Paris:20250915T170000
DTSTAMP:20260419T151935
CREATED:20250723T123319Z
LAST-MODIFIED:20250723T123319Z
UID:10000238-1757322000-1757955600@dev.irtess.fr
SUMMARY:Les ressources illettrisme du Cerdim
DESCRIPTION:Le Cerdim (centre de ressources documentaires) de l’IRTESS (Institut régional supérieur du travail éducatif et social de Bourgogne) présente les documents et outils sur l’illettrisme qu’il met à disposition de ses publics : travailleurs sociaux en formation\, formateurs\, professionnels du secteur de l’action sociale et médico-sociale\, de l’animation\, de l’aide à domicile\, de l’économie sociale et solidaire…\nObjectif : sensibiliser et informer sur cette problématique\, connaître et faire connaître les ressources multimédia de l’ANLCI et de l’IRTESS (outils\, documents\, affiches…)\, proposer les bons outils et les bonnes adresses. Contact : phumbey@irtess.fr
URL:https://dev.irtess.fr/evenement/les-ressources-illettrisme-du-cerdim/
LOCATION:Dijon
CATEGORIES:Exposition
ATTACH;FMTTYPE=image/jpeg:https://dev.irtess.fr/wp-content/uploads/job-manager-uploads/company_logo/2022/09/Logo-Cerdim-coul.jpg
END:VEVENT
END:VCALENDAR