BEGIN:VCALENDAR
VERSION:2.0
PRODID:-//Irtess - ECPv6.0.13.1//NONSGML v1.0//EN
CALSCALE:GREGORIAN
METHOD:PUBLISH
X-ORIGINAL-URL:https://dev.irtess.fr
X-WR-CALDESC:évènements pour Irtess
REFRESH-INTERVAL;VALUE=DURATION:PT1H
X-Robots-Tag:noindex
X-PUBLISHED-TTL:PT1H
BEGIN:VTIMEZONE
TZID:Europe/Paris
BEGIN:DAYLIGHT
TZOFFSETFROM:+0100
TZOFFSETTO:+0200
TZNAME:CEST
DTSTART:20250330T010000
END:DAYLIGHT
BEGIN:STANDARD
TZOFFSETFROM:+0200
TZOFFSETTO:+0100
TZNAME:CET
DTSTART:20251026T010000
END:STANDARD
END:VTIMEZONE
BEGIN:VEVENT
DTSTART;TZID=Europe/Paris:20251014T093000
DTEND;TZID=Europe/Paris:20251014T163000
DTSTAMP:20260419T220419
CREATED:20250711T145837Z
LAST-MODIFIED:20250711T145837Z
UID:10000235-1760434200-1760459400@dev.irtess.fr
SUMMARY:Jeunesses rurales : regards croisés
DESCRIPTION:Journée de rencontre organisée par le Ross Bourgogne-Franche-Comté. Objectif : s’interroger sur la place de la jeunesse rurale dans le territoire et de découvrir ses aspirations\, les freins qui l’entravent et des exemples de politiques publiques qui lui sont dédiées. Evénement gratuit sur inscription obligatoire. S’inscrire. Contact : contact@rossbfc.fr
URL:https://dev.irtess.fr/evenement/jeunesses-rurales-regards-croises/
LOCATION:Dijon
ATTACH;FMTTYPE=image/png:https://dev.irtess.fr/wp-content/uploads/2022/11/ROSS_logo.png
END:VEVENT
BEGIN:VEVENT
DTSTART;TZID=Europe/Paris:20250918T110000
DTEND;TZID=Europe/Paris:20250918T120000
DTSTAMP:20260419T220419
CREATED:20250709T091800Z
LAST-MODIFIED:20250828T081406Z
UID:10000231-1758193200-1758196800@dev.irtess.fr
SUMMARY:Impact du vieillissement de la population sur les centres sociaux
DESCRIPTION:Visio Flash du ROSS. L’Union Régionale des Centres Sociaux vous invite à découvrir et à échanger collectivement sur les résultats de l’ étude menée auprès des 140 Centres Sociaux de la région pour répondre à la question suivante : « Comment les Centres Sociaux de Bourgogne-Franche-Comté prennent-ils en compte le vieillissement de la population ? ». Ce travail a été soutenu financièrement par la CARSAT Bourgogne-Franche-Comté et accompagné par le Pôle de gérontologie et d’innovation (PGI) de Bourgogne-Franche-Comté. S’inscrire
URL:https://dev.irtess.fr/evenement/impact-du-vieillissement-de-la-population-sur-les-centres-sociaux/
LOCATION:Visio
CATEGORIES:Webinaire
ATTACH;FMTTYPE=image/png:https://dev.irtess.fr/wp-content/uploads/2022/11/ROSS_logo.png
END:VEVENT
END:VCALENDAR